BEGIN:VCALENDAR
VERSION:2.0
PRODID:-//https://edmondrealtors.com//NONSGML kigkonsult.se iCalcreator 2.41.71//
CALSCALE:GREGORIAN
METHOD:PUBLISH
UID:36626533-6432-4535-a139-303636666263
X-WR-CALNAME:JCal Pro Calendar
X-WR-CALDESC:Your online events calendar
X-WR-TIMEZONE:America/Chicago
BEGIN:VTIMEZONE
TZID:America/Chicago
TZUNTIL:20271107T070000Z
BEGIN:STANDARD
TZNAME:CST
DTSTART:20251102T020000
TZOFFSETFROM:-0500
TZOFFSETTO:-0600
RDATE:20261101T020000
END:STANDARD
BEGIN:DAYLIGHT
TZNAME:CDT
DTSTART:20260308T020000
TZOFFSETFROM:-0600
TZOFFSETTO:-0500
RDATE:20270314T020000
END:DAYLIGHT
END:VTIMEZONE
BEGIN:VEVENT
UID:20260326T090000UTC-4997m1VuOx@https://edmondrealtors.com/
DTSTAMP:20260420T232553Z
CATEGORIES:Hot Topic Course
DESCRIPTION:<p>Likes to Leads: Social Media That Pays Off (1HR CE HOT)<br /
 >Instructor: Alexis Hirsig<br />Date/Time: Thursday\, March 26th from 9:00
 a - 10:00a<br />Location: EBR office<br />*Please park in the lot behind E
 BR<br />Join us following the course at the Kickingbird Golf Course for a 
 bruncheon panel with the instructor<br />CE Cancellation Policy - If less 
 than 10 people are registered 48hrs before the class\, we will reschedule.
  (unless the instructor wants to move forward). You will be notified by em
 ail if the class is rescheduled.<br />NOTICE: Starting January 1\, 2023 th
 e Board of Directors approved a no call/ no show fee to be added when memb
 ers do not cancel their registrations for class and do not attend. If we d
 o not hear from you 24 hours prior to class your account will be invoiced 
 $25.</p>
DTSTART;TZID=America/Chicago:20260326T090000
DTEND;TZID=America/Chicago:20260326T100000
SUMMARY:Likes to Leads: Social Media That Pays Off (1HR CE HOT)
URL:https://edmondrealtors.com/calendar/279-classes/194-committee-meetings-
 calendar-cateogory/2045-likes-to-leads-social-media-that-pays-off-1hr-ce-h
 ot.html
X-ALT-DESC;FMTTYPE=TEXT/HTML:<p>Likes to Leads: Social Media That Pays Off 
 (1HR CE HOT)<br />Instructor: Alexis Hirsig<br />Date/Time: Thursday\, Mar
 ch 26th from 9:00a - 10:00a<br />Location: EBR office<br />*Please park in
  the lot behind EBR<br />Join us following the course at the Kickingbird G
 olf Course for a bruncheon panel with the instructor<br />CE Cancellation 
 Policy - If less than 10 people are registered 48hrs before the class\, we
  will reschedule. (unless the instructor wants to move forward). You will 
 be notified by email if the class is rescheduled.<br />NOTICE: Starting Ja
 nuary 1\, 2023 the Board of Directors approved a no call/ no show fee to b
 e added when members do not cancel their registrations for class and do no
 t attend. If we do not hear from you 24 hours prior to class your account 
 will be invoiced $25.</p>
END:VEVENT
BEGIN:VEVENT
UID:20260326T103000UTC-751106Aebv@https://edmondrealtors.com/
DTSTAMP:20260420T232553Z
CATEGORIES:ELOT Events
DTSTART;TZID=America/Chicago:20260326T103000
DTEND;TZID=America/Chicago:20260326T123000
SUMMARY:ELOT Brunch and Learn
URL:https://edmondrealtors.com/calendar/279-classes/189-meetings-calendar-c
 ategory/192-elot-events/2027-elot-brunch-and-learn.html
END:VEVENT
END:VCALENDAR
