BEGIN:VCALENDAR
VERSION:2.0
PRODID:-//https://edmondrealtors.com//NONSGML kigkonsult.se iCalcreator 2.41.71//
CALSCALE:GREGORIAN
METHOD:PUBLISH
UID:31643633-3938-4765-b765-643165343065
X-WR-CALNAME:JCal Pro Calendar
X-WR-CALDESC:Your online events calendar
X-WR-TIMEZONE:America/Chicago
BEGIN:VTIMEZONE
TZID:America/Chicago
TZUNTIL:20271107T070000Z
BEGIN:STANDARD
TZNAME:CST
DTSTART:20251102T020000
TZOFFSETFROM:-0500
TZOFFSETTO:-0600
RDATE:20261101T020000
END:STANDARD
BEGIN:DAYLIGHT
TZNAME:CDT
DTSTART:20260308T020000
TZOFFSETFROM:-0600
TZOFFSETTO:-0500
RDATE:20270314T020000
END:DAYLIGHT
END:VTIMEZONE
BEGIN:VEVENT
UID:20251031T100000UTC-8444U6vHB4@https://edmondrealtors.com/
DTSTAMP:20260422T204617Z
CATEGORIES:Elective Course
DESCRIPTION:<p>Referral Network - Make it Fruitful (1HR ELEC)<br />Instruct
 or: Athena Captain<br />Date/Time: Thursday\, February 12th from 9:00a - 1
 0:00a<br />Location: EBR office<br />Sponsors: First American Home Warrant
 y<br />*Please park behind EBR (parking lot to the south)<br />CE Cancella
 tion Policy - If less than 10 people are registered 48hrs before the class
 \, we will reschedule. (unless the instructor wants to move forward). You 
 will be notified by email if the class is rescheduled.<br />NOTICE: Starti
 ng January 1\, 2023 the Board of Directors approved a no call/ no show fee
  to be added when members do not cancel their registrations for class and 
 do not attend. If we do not hear from you 24 hours prior to class your acc
 ount will be invoiced $25.</p>
DTSTART;TZID=America/Chicago:20260212T090000
DTEND;TZID=America/Chicago:20260212T100000
SUMMARY:Referral Network - Make it Fruitful (1HR ELEC)
URL:https://edmondrealtors.com/calendar/279-classes/341-uncategorised/1926-
 referral-network-make-it-fruitful-1hr-elec.html
X-ALT-DESC;FMTTYPE=TEXT/HTML:<p>Referral Network - Make it Fruitful (1HR EL
 EC)<br />Instructor: Athena Captain<br />Date/Time: Thursday\, February 12
 th from 9:00a - 10:00a<br />Location: EBR office<br />Sponsors: First Amer
 ican Home Warranty<br />*Please park behind EBR (parking lot to the south)
 <br />CE Cancellation Policy - If less than 10 people are registered 48hrs
  before the class\, we will reschedule. (unless the instructor wants to mo
 ve forward). You will be notified by email if the class is rescheduled.<br
  />NOTICE: Starting January 1\, 2023 the Board of Directors approved a no 
 call/ no show fee to be added when members do not cancel their registratio
 ns for class and do not attend. If we do not hear from you 24 hours prior 
 to class your account will be invoiced $25.</p>
END:VEVENT
BEGIN:VEVENT
UID:20260212T090000UTC-7432ItgtOH@https://edmondrealtors.com/
DTSTAMP:20260422T204617Z
CATEGORIES:Lancaster Institute Affiliate Zoom Courses
CATEGORIES:Fair Housing Course
DESCRIPTION:<p>Live ZOOM - Fair Housing (3HR CE FHR)</p>\n<p>Date/Time: Thu
 rsday\, February 12 from 9:00a - 12:00p</p>\n<p>Location: ONLINE through o
 ur partners at The Lancaster Institute. All classes with The Lancaster Ins
 titute will be offered via online platforms at affordable prices. To regis
 ter for the upcoming course follow this link:<span style='background-color
 : #ffff00\;'>&nbsp\;<a href='https://www.lancasterinstitute.com/product/fa
 ir-housing-feb12-ok/?aff=ebr'>https://www.lancasterinstitute.com/product/f
 air-housing-feb12-ok/?aff=ebr</a></span></p>\n<p>Description:&nbsp\;This c
 ourse aims to focus on the importance and history of the Federal Fair Hous
 ing Act and its application in today's real estate environment. We will di
 scuss how the Department of Housing and Urban Development enforces the Fed
 eral Fair Housing Act as well as review the most common discriminatory pra
 ctices like service and assistive animals and how to best handle a reasona
 ble accommodation request. We will also examine examples of Federal Fair H
 ousing complaints and discuss Federal Fair Housing initiatives and resourc
 es.</p>
DTSTART;TZID=America/Chicago:20260212T090000
DTEND;TZID=America/Chicago:20260212T120000
SUMMARY:Live ZOOM - Fair Housing (3HR CE FHR)
URL:https://edmondrealtors.com/calendar/279-classes/358-lancaster-institute
 -affiliate-zoom-courses/1961-live-zoom-fair-housing-3hr-ce-fhr.html
X-ALT-DESC;FMTTYPE=TEXT/HTML:<p>Live ZOOM - Fair Housing (3HR CE FHR)</p>\n
 <p>Date/Time: Thursday\, February 12 from 9:00a - 12:00p</p>\n<p>Location:
  ONLINE through our partners at The Lancaster Institute. All classes with 
 The Lancaster Institute will be offered via online platforms at affordable
  prices. To register for the upcoming course follow this link:<span style=
 'background-color: #ffff00\;'>&nbsp\;<a href='https://www.lancasterinstitu
 te.com/product/fair-housing-feb12-ok/?aff=ebr'>https://www.lancasterinstit
 ute.com/product/fair-housing-feb12-ok/?aff=ebr</a></span></p>\n<p>Descript
 ion:&nbsp\;This course aims to focus on the importance and history of the 
 Federal Fair Housing Act and its application in today's real estate enviro
 nment. We will discuss how the Department of Housing and Urban Development
  enforces the Federal Fair Housing Act as well as review the most common d
 iscriminatory practices like service and assistive animals and how to best
  handle a reasonable accommodation request. We will also examine examples 
 of Federal Fair Housing complaints and discuss Federal Fair Housing initia
 tives and resources.</p>
END:VEVENT
BEGIN:VEVENT
UID:20260212T123000UTC-2660mGF4He@https://edmondrealtors.com/
DTSTAMP:20260422T204617Z
CATEGORIES:Lancaster Institute Affiliate Zoom Courses
CATEGORIES:Elective Course
DESCRIPTION:<p>Live ZOOM - 7 Deadly Sins of Pricing Property (3 HR CE ELEC)
 </p>\n<p>Date/Time: Thursday\, February 12 from 12:30p - 3:30p</p>\n<p>Loc
 ation: ONLINE through our partners at The Lancaster Institute. All classes
  with The Lancaster Institute will be offered via online platforms at affo
 rdable prices. To register for the upcoming course follow this link:<span 
 style='background-color: #ffff00\;'>&nbsp\;<a href='https://www.lancasteri
 nstitute.com/product/pricing-property-feb12-ok/?aff=ebr'>https://www.lanca
 sterinstitute.com/product/pricing-property-feb12-ok/?aff=ebr</a></span></p
 >\n<p>Description:&nbsp\;Pricing property is the single most important asp
 ect of listing real estate. Even in today’s market\, failing to price prop
 erty correctly can cost your seller thousands. This course covers the most
  common mistakes agents (and sellers) make when pricing property.</p>
DTSTART;TZID=America/Chicago:20260212T123000
DTEND;TZID=America/Chicago:20260212T153000
SUMMARY:Live ZOOM - 7 Deadly Sins of Pricing Property (3 HR CE ELEC)
URL:https://edmondrealtors.com/calendar/279-classes/358-lancaster-institute
 -affiliate-zoom-courses/1962-live-zoom-7-deadly-sins-of-pricing-property-3
 -hr-ce-elec.html
X-ALT-DESC;FMTTYPE=TEXT/HTML:<p>Live ZOOM - 7 Deadly Sins of Pricing Proper
 ty (3 HR CE ELEC)</p>\n<p>Date/Time: Thursday\, February 12 from 12:30p - 
 3:30p</p>\n<p>Location: ONLINE through our partners at The Lancaster Insti
 tute. All classes with The Lancaster Institute will be offered via online 
 platforms at affordable prices. To register for the upcoming course follow
  this link:<span style='background-color: #ffff00\;'>&nbsp\;<a href='https
 ://www.lancasterinstitute.com/product/pricing-property-feb12-ok/?aff=ebr'>
 https://www.lancasterinstitute.com/product/pricing-property-feb12-ok/?aff=
 ebr</a></span></p>\n<p>Description:&nbsp\;Pricing property is the single m
 ost important aspect of listing real estate. Even in today’s market\, fail
 ing to price property correctly can cost your seller thousands. This cours
 e covers the most common mistakes agents (and sellers) make when pricing p
 roperty.</p>
END:VEVENT
BEGIN:VEVENT
UID:20260212T160000UTC-4528sf7Vof@https://edmondrealtors.com/
DTSTAMP:20260422T204617Z
CATEGORIES:EBR Events
DESCRIPTION:<p>Thank you to our sponsors:</p>\n<p>Gateway Mortgage and Firs
 t American Title</p>
DTSTART;TZID=America/Chicago:20260212T160000
DTEND;TZID=America/Chicago:20260212T180000
SUMMARY:ELOT Kickoff Event
URL:https://edmondrealtors.com/calendar/186-events-calendar-category/2007-e
 lot-kickoff-event.html
X-ALT-DESC;FMTTYPE=TEXT/HTML:<p>Thank you to our sponsors:</p>\n<p>Gateway 
 Mortgage and First American Title</p>
END:VEVENT
END:VCALENDAR
