BEGIN:VCALENDAR
VERSION:2.0
PRODID:-//https://edmondrealtors.com//NONSGML kigkonsult.se iCalcreator 2.41.71//
CALSCALE:GREGORIAN
METHOD:PUBLISH
UID:31383862-3432-4938-a539-613864636134
X-WR-CALNAME:JCal Pro Calendar
X-WR-CALDESC:Your online events calendar
X-WR-TIMEZONE:America/Chicago
BEGIN:VTIMEZONE
TZID:America/Chicago
TZUNTIL:20271107T070000Z
BEGIN:STANDARD
TZNAME:CST
DTSTART:20251102T020000
TZOFFSETFROM:-0500
TZOFFSETTO:-0600
RDATE:20261101T020000
END:STANDARD
BEGIN:DAYLIGHT
TZNAME:CDT
DTSTART:20260308T020000
TZOFFSETFROM:-0600
TZOFFSETTO:-0500
RDATE:20270314T020000
END:DAYLIGHT
END:VTIMEZONE
BEGIN:VEVENT
UID:20260211T100000UTC-9240vBmzU4@https://edmondrealtors.com/
DTSTAMP:20260422T100256Z
CATEGORIES:Elective Course
DESCRIPTION:<p>Perfecting Your Online Presence Workshop 2: Platform Strateg
 y - How to Show Up Where Your Clients Are (1HR CE ELEC)<br />Instructor: S
 hanahan Ramos<br />Date/Time: Wednesday\, February 11th from 10:00a - 11:3
 0a<br />Location: EBR office<br />Sponsor:&nbsp\;Sovereign Bank<br />*Plea
 se park in the lot behind EBR</p>\n<p>Workshop 2 of 3<br />Course Descript
 ion:<br />Not all platforms are created equal — and you shouldn’t treat th
 em that way. In this workshop\, agents will discover which platforms are b
 est for reaching their ideal client and how to tailor their profiles for m
 aximum visibility and engagement. We’ll cover social media\, real estate p
 ortals\, and Google Business\, giving agents tools to show up and stand ou
 t.<br />Learning Objectives:<br />Determine which platforms align with yo
 ur client base and strengths<br />Learn best practices for Facebook\, Ins
 tagram\, Google Business\, Zillow\, and more<br />Optimize your bios\, vi
 suals\, and links for clarity and conversion<br />Perform a platform-spec
 ific profile audit<br />CE Cancellation Policy - If less than 10 people ar
 e registered 48hrs before the class\, we will reschedule. (unless the inst
 ructor wants to move forward). You will be notified by email if the class 
 is rescheduled.<br />NOTICE: Starting January 1\, 2023 the Board of Direct
 ors approved a no call/ no show fee to be added when members do not cancel
  their registrations for class and do not attend. If we do not hear from y
 ou 24 hours prior to class your account will be invoiced $25.</p>
DTSTART;TZID=America/Chicago:20260211T100000
DTEND;TZID=America/Chicago:20260211T113000
SUMMARY:Perfecting Your Online Presence Workshop 2: Platform Strategy - How
  to Show Up Where Your Clients Are (1HR CE ELEC)
URL:https://edmondrealtors.com/calendar/279-classes/341-uncategorised/1980-
 perfecting-your-online-presence-workshop-2-platform-strategy-how-to-show-u
 p-where-your-clients-are-1hr-ce-elec.html
X-ALT-DESC;FMTTYPE=TEXT/HTML:<p>Perfecting Your Online Presence Workshop 2:
  Platform Strategy - How to Show Up Where Your Clients Are (1HR CE ELEC)<b
 r />Instructor: Shanahan Ramos<br />Date/Time: Wednesday\, February 11th f
 rom 10:00a - 11:30a<br />Location: EBR office<br />Sponsor:&nbsp\;Sovereig
 n Bank<br />*Please park in the lot behind EBR</p>\n<p>Workshop 2 of 3<br 
 />Course Description:<br />Not all platforms are created equal — and you s
 houldn’t treat them that way. In this workshop\, agents will discover whic
 h platforms are best for reaching their ideal client and how to tailor the
 ir profiles for maximum visibility and engagement. We’ll cover social medi
 a\, real estate portals\, and Google Business\, giving agents tools to sho
 w up and stand out.<br />Learning Objectives:<br />Determine which platfo
 rms align with your client base and strengths<br />Learn best practices f
 or Facebook\, Instagram\, Google Business\, Zillow\, and more<br />Optimi
 ze your bios\, visuals\, and links for clarity and conversion<br />Perfor
 m a platform-specific profile audit<br />CE Cancellation Policy - If less 
 than 10 people are registered 48hrs before the class\, we will reschedule.
  (unless the instructor wants to move forward). You will be notified by em
 ail if the class is rescheduled.<br />NOTICE: Starting January 1\, 2023 th
 e Board of Directors approved a no call/ no show fee to be added when memb
 ers do not cancel their registrations for class and do not attend. If we d
 o not hear from you 24 hours prior to class your account will be invoiced 
 $25.</p>
END:VEVENT
BEGIN:VEVENT
UID:20260211T133000UTC-6526ZtdoJo@https://edmondrealtors.com/
DTSTAMP:20260422T100256Z
CATEGORIES:Lancaster Institute Affiliate Zoom Courses
CATEGORIES:Elective Course
DESCRIPTION:<p>Live ZOOM - Intro to Fortified Homes &amp\; Roofs (2HR CE EL
 EC)</p>\n<p>Date/Time: Wednesday\, February 11 from 1:30p - 3:30p</p>\n<p>
 Location: ONLINE through our partners at The Lancaster Institute. All clas
 ses with The Lancaster Institute will be offered via online platforms at a
 ffordable prices. To register for the upcoming course follow this link:<sp
 an style='background-color: #ffff00\;'>&nbsp\;<a href='https://www.lancast
 erinstitute.com/product/intro-fort-homes-feb11-ok/?aff=ebr'>https://www.la
 ncasterinstitute.com/product/intro-fort-homes-feb11-ok/?aff=ebr</a></span>
 </p>\n<p>Description:&nbsp\;This comprehensive 2-hour course is designed t
 o provide real estate professionals with an in-depth understanding of the 
 Fortified Home Program. As the demand for resilient and durable homes incr
 eases\, especially in areas prone to natural disasters and severe weather\
 , this course equips agents with the knowledge to confidently inform and a
 dvise homeowners about the benefits and processes associated with the Fort
 ified Home certification.</p>
DTSTART;TZID=America/Chicago:20260211T133000
DTEND;TZID=America/Chicago:20260211T153000
SUMMARY:Live ZOOM - Intro to Fortified Homes & Roofs (2HR CE ELEC)
URL:https://edmondrealtors.com/calendar/279-classes/358-lancaster-institute
 -affiliate-zoom-courses/1960-live-zoom-intro-to-fortified-homes-roofs-2hr-
 ce-elec.html
X-ALT-DESC;FMTTYPE=TEXT/HTML:<p>Live ZOOM - Intro to Fortified Homes &amp\;
  Roofs (2HR CE ELEC)</p>\n<p>Date/Time: Wednesday\, February 11 from 1:30p
  - 3:30p</p>\n<p>Location: ONLINE through our partners at The Lancaster In
 stitute. All classes with The Lancaster Institute will be offered via onli
 ne platforms at affordable prices. To register for the upcoming course fol
 low this link:<span style='background-color: #ffff00\;'>&nbsp\;<a href='ht
 tps://www.lancasterinstitute.com/product/intro-fort-homes-feb11-ok/?aff=eb
 r'>https://www.lancasterinstitute.com/product/intro-fort-homes-feb11-ok/?a
 ff=ebr</a></span></p>\n<p>Description:&nbsp\;This comprehensive 2-hour cou
 rse is designed to provide real estate professionals with an in-depth unde
 rstanding of the Fortified Home Program. As the demand for resilient and d
 urable homes increases\, especially in areas prone to natural disasters an
 d severe weather\, this course equips agents with the knowledge to confide
 ntly inform and advise homeowners about the benefits and processes associa
 ted with the Fortified Home certification.</p>
END:VEVENT
END:VCALENDAR
