BEGIN:VCALENDAR
VERSION:2.0
PRODID:-//https://edmondrealtors.com//NONSGML kigkonsult.se iCalcreator 2.41.71//
CALSCALE:GREGORIAN
METHOD:PUBLISH
UID:65666562-3038-4062-b539-323963646366
X-WR-CALNAME:JCal Pro Calendar
X-WR-CALDESC:Your online events calendar
X-WR-TIMEZONE:America/Chicago
BEGIN:VTIMEZONE
TZID:America/Chicago
TZUNTIL:20271107T070000Z
BEGIN:STANDARD
TZNAME:CST
DTSTART:20251102T020000
TZOFFSETFROM:-0500
TZOFFSETTO:-0600
RDATE:20261101T020000
END:STANDARD
BEGIN:DAYLIGHT
TZNAME:CDT
DTSTART:20260308T020000
TZOFFSETFROM:-0600
TZOFFSETTO:-0500
RDATE:20270314T020000
END:DAYLIGHT
END:VTIMEZONE
BEGIN:VEVENT
UID:20260205T090000UTC-9712gmdUXf@https://edmondrealtors.com/
DTSTAMP:20260422T051858Z
CATEGORIES:Lancaster Institute Affiliate Zoom Courses
CATEGORIES:Elective Course
DESCRIPTION:<p>Live ZOOM - Let's Talk Flood (3HR CE ELEC)</p>\n<p>Date/Time
 : Thursday\, February 5 from 11:00a - 2:00p</p>\n<p>Location: ONLINE throu
 gh our partners at The Lancaster Institute. All classes with The Lancaster
  Institute will be offered via online platforms at affordable prices. To r
 egister for the upcoming course follow this link:<span style='background-c
 olor: #ffff00\;'>&nbsp\;<a href='https://www.lancasterinstitute.com/produc
 t/flood-feb5-ok/?aff=ebr'>https://www.lancasterinstitute.com/product/flood
 -feb5-ok/?aff=ebr</a></span></p>\n<p>Description:&nbsp\;In this course\, y
 ou will gain actionable techniques and best practices on how to protect yo
 ur buyers in purchasing a previously flooded home\; as well as\, listing a
 nd promoting previously flooded homes. This session will explore how flood
 ing and flood insurance plays a role in the value of a property. Additiona
 lly\, we will discuss the important features of the NFIP policy every agen
 t needs to know.</p>
DTSTART;TZID=America/Chicago:20260205T110000
DTEND;TZID=America/Chicago:20260205T140000
SUMMARY:Live ZOOM - Let's Talk Flood (3HR CE ELEC)
URL:https://edmondrealtors.com/calendar/279-classes/358-lancaster-institute
 -affiliate-zoom-courses/1959-live-zoom-lets-talk-flood-3hr-ce-elec.html
X-ALT-DESC;FMTTYPE=TEXT/HTML:<p>Live ZOOM - Let's Talk Flood (3HR CE ELEC)<
 /p>\n<p>Date/Time: Thursday\, February 5 from 11:00a - 2:00p</p>\n<p>Locat
 ion: ONLINE through our partners at The Lancaster Institute. All classes w
 ith The Lancaster Institute will be offered via online platforms at afford
 able prices. To register for the upcoming course follow this link:<span st
 yle='background-color: #ffff00\;'>&nbsp\;<a href='https://www.lancasterins
 titute.com/product/flood-feb5-ok/?aff=ebr'>https://www.lancasterinstitute.
 com/product/flood-feb5-ok/?aff=ebr</a></span></p>\n<p>Description:&nbsp\;I
 n this course\, you will gain actionable techniques and best practices on 
 how to protect your buyers in purchasing a previously flooded home\; as we
 ll as\, listing and promoting previously flooded homes. This session will 
 explore how flooding and flood insurance plays a role in the value of a pr
 operty. Additionally\, we will discuss the important features of the NFIP 
 policy every agent needs to know.</p>
END:VEVENT
END:VCALENDAR
