BEGIN:VCALENDAR
VERSION:2.0
PRODID:-//https://edmondrealtors.com//NONSGML kigkonsult.se iCalcreator 2.41.71//
CALSCALE:GREGORIAN
METHOD:PUBLISH
UID:66363139-3137-4839-b662-303063383131
X-WR-CALNAME:JCal Pro Calendar
X-WR-CALDESC:Your online events calendar
X-WR-TIMEZONE:America/Chicago
BEGIN:VTIMEZONE
TZID:America/Chicago
TZUNTIL:20271107T070000Z
BEGIN:STANDARD
TZNAME:CST
DTSTART:20251102T020000
TZOFFSETFROM:-0500
TZOFFSETTO:-0600
RDATE:20261101T020000
END:STANDARD
BEGIN:DAYLIGHT
TZNAME:CDT
DTSTART:20260308T020000
TZOFFSETFROM:-0600
TZOFFSETTO:-0500
RDATE:20270314T020000
END:DAYLIGHT
END:VTIMEZONE
BEGIN:VEVENT
UID:20260121T123000UTC-8010FPuI1f@https://edmondrealtors.com/
DTSTAMP:20260421T113442Z
CATEGORIES:Lancaster Institute Affiliate Zoom Courses
CATEGORIES:Elective Course
DESCRIPTION:<p>Live ZOOM - Advertising and Social Media (2HR CE ELEC)</p>\n
 <p>Date/Time: Wednesday\, January 21 from 12:30p - 2:30p</p>\n<p>Location:
  ONLINE through our partners at The Lancaster Institute. All classes with 
 The Lancaster Institute will be offered via online platforms at affordable
  prices. To register for the upcoming course follow this link:&nbsp\;<span
  style='background-color: #ffff00\;'><a href='https://www.lancasterinstitu
 te.com/product/advertising-jan21-ok/?aff=ebr' style='background-color: #ff
 ff00\;'>https://www.lancasterinstitute.com/product/advertising-jan21-ok/?a
 ff=ebr</a></span></p>\n<p>Description:&nbsp\;This course will explore the 
 various Fair Housing violations agents experience within their advertiseme
 nts and ways to avoid them. We will apply the Code of Ethics Articles to e
 veryday real estate practices\, in person and on social media. Finally\, w
 e will examine the fundamentals of lead generation tools and systems agent
 s can use to grow their database.</p>
DTSTART;TZID=America/Chicago:20260121T123000
DTEND;TZID=America/Chicago:20260121T143000
SUMMARY:Live ZOOM - Advertising and Social Media (2HR CE ELEC)
URL:https://edmondrealtors.com/calendar/279-classes/358-lancaster-institute
 -affiliate-zoom-courses/1955-live-zoom-advertising-and-social-media-2hr-ce
 -elec.html
X-ALT-DESC;FMTTYPE=TEXT/HTML:<p>Live ZOOM - Advertising and Social Media (2
 HR CE ELEC)</p>\n<p>Date/Time: Wednesday\, January 21 from 12:30p - 2:30p<
 /p>\n<p>Location: ONLINE through our partners at The Lancaster Institute. 
 All classes with The Lancaster Institute will be offered via online platfo
 rms at affordable prices. To register for the upcoming course follow this 
 link:&nbsp\;<span style='background-color: #ffff00\;'><a href='https://www
 .lancasterinstitute.com/product/advertising-jan21-ok/?aff=ebr' style='back
 ground-color: #ffff00\;'>https://www.lancasterinstitute.com/product/advert
 ising-jan21-ok/?aff=ebr</a></span></p>\n<p>Description:&nbsp\;This course 
 will explore the various Fair Housing violations agents experience within 
 their advertisements and ways to avoid them. We will apply the Code of Eth
 ics Articles to everyday real estate practices\, in person and on social m
 edia. Finally\, we will examine the fundamentals of lead generation tools 
 and systems agents can use to grow their database.</p>
END:VEVENT
END:VCALENDAR
