BEGIN:VCALENDAR
VERSION:2.0
PRODID:-//https://edmondrealtors.com//NONSGML kigkonsult.se iCalcreator 2.41.71//
CALSCALE:GREGORIAN
METHOD:PUBLISH
UID:36346130-6335-4237-a464-313532383736
X-WR-CALNAME:JCal Pro Calendar
X-WR-CALDESC:Your online events calendar
X-WR-TIMEZONE:America/Chicago
BEGIN:VTIMEZONE
TZID:America/Chicago
TZUNTIL:20271107T070000Z
BEGIN:STANDARD
TZNAME:CST
DTSTART:20251102T020000
TZOFFSETFROM:-0500
TZOFFSETTO:-0600
RDATE:20261101T020000
END:STANDARD
BEGIN:DAYLIGHT
TZNAME:CDT
DTSTART:20260308T020000
TZOFFSETFROM:-0600
TZOFFSETTO:-0500
RDATE:20270314T020000
END:DAYLIGHT
END:VTIMEZONE
BEGIN:VEVENT
UID:20251231T130000UTC-1484EHk17V@https://edmondrealtors.com/
DTSTAMP:20260420T120247Z
CATEGORIES:Lancaster Institute Affiliate Zoom Courses
CATEGORIES:Hot Topic Course
DESCRIPTION:<p>Live ZOOM - Real Estate Market Trends (2HR CE HOT)</p>\n<p>D
 ate/Time: Wednesday\, December 31st from 1:00p - 3:00p</p>\n<p>Location: O
 NLINE through our partners at The Lancaster Institute. All classes with Th
 e Lancaster Institute will be offered via online platforms at affordable p
 rices. To register for the upcoming course follow this link:<span style='b
 ackground-color: #ffff00\;'>&nbsp\;<a href='https://www.lancasterinstitute
 .com/product/mktrends-dec31-ok/?aff=ebr'>https://www.lancasterinstitute.co
 m/product/mktrends-dec31-ok/?aff=ebr</a></span></p>\n<p>Description:&nbsp\
 ;Gain the confidence to explain macro-economic factors at a local level. T
 his course will interpret national economic data and how it affects your l
 ocal real estate on a residential and commercial level. We will help you t
 o understand regional and state trends\, as well as discover ways that you
  can better explain things to clients like new construction vs existing ho
 me sales statistics.</p>
DTSTART;TZID=America/Chicago:20251231T130000
DTEND;TZID=America/Chicago:20251231T150000
SUMMARY:Live ZOOM - Real Estate Market Trends (2HR CE HOT)
URL:https://edmondrealtors.com/calendar/279-classes/358-lancaster-institute
 -affiliate-zoom-courses/1918-live-zoom-real-estate-market-trends-2hr-ce-el
 ec.html
X-ALT-DESC;FMTTYPE=TEXT/HTML:<p>Live ZOOM - Real Estate Market Trends (2HR 
 CE HOT)</p>\n<p>Date/Time: Wednesday\, December 31st from 1:00p - 3:00p</p
 >\n<p>Location: ONLINE through our partners at The Lancaster Institute. Al
 l classes with The Lancaster Institute will be offered via online platform
 s at affordable prices. To register for the upcoming course follow this li
 nk:<span style='background-color: #ffff00\;'>&nbsp\;<a href='https://www.l
 ancasterinstitute.com/product/mktrends-dec31-ok/?aff=ebr'>https://www.lanc
 asterinstitute.com/product/mktrends-dec31-ok/?aff=ebr</a></span></p>\n<p>D
 escription:&nbsp\;Gain the confidence to explain macro-economic factors at
  a local level. This course will interpret national economic data and how 
 it affects your local real estate on a residential and commercial level. W
 e will help you to understand regional and state trends\, as well as disco
 ver ways that you can better explain things to clients like new constructi
 on vs existing home sales statistics.</p>
END:VEVENT
END:VCALENDAR
