BEGIN:VCALENDAR
VERSION:2.0
PRODID:-//https://edmondrealtors.com//NONSGML kigkonsult.se iCalcreator 2.41.71//
CALSCALE:GREGORIAN
METHOD:PUBLISH
UID:38653233-3335-4734-b135-383235303961
X-WR-CALNAME:JCal Pro Calendar
X-WR-CALDESC:Your online events calendar
X-WR-TIMEZONE:America/Chicago
BEGIN:VTIMEZONE
TZID:America/Chicago
TZUNTIL:20271107T070000Z
BEGIN:STANDARD
TZNAME:CST
DTSTART:20251102T020000
TZOFFSETFROM:-0500
TZOFFSETTO:-0600
RDATE:20261101T020000
END:STANDARD
BEGIN:DAYLIGHT
TZNAME:CDT
DTSTART:20260308T020000
TZOFFSETFROM:-0600
TZOFFSETTO:-0500
RDATE:20270314T020000
END:DAYLIGHT
END:VTIMEZONE
BEGIN:VEVENT
UID:20251217T090000UTC-1029xUGn82@https://edmondrealtors.com/
DTSTAMP:20260422T021112Z
CATEGORIES:Lancaster Institute Affiliate Zoom Courses
CATEGORIES:Elective Course
DESCRIPTION:<p>Live ZOOM - Estate Planning and Taxes (3HR ELEC)</p>\n<p>Dat
 e/Time: Wednesday\, December 17th from 9:00a - 12:00p</p>\n<p>Location: ON
 LINE through our partners at The Lancaster Institute. All classes with The
  Lancaster Institute will be offered via online platforms at affordable pr
 ices. To register for the upcoming course follow this link:<span style='ba
 ckground-color: #ffff00\;'>&nbsp\;<a href='https://www.lancasterinstitute.
 com/product/estateplan-dec17-ok/?aff=ebr'>https://www.lancasterinstitute.c
 om/product/estateplan-dec17-ok/?aff=ebr</a></span></p>\n<p>Description:&nb
 sp\;This course provides real estate agents with a comprehensive understan
 ding of taxes and tax deductions\, helping them identify opportunities tha
 t are often overlooked. Participants will explore key deductions and gain 
 valuable insights into the right questions to ask their CPA or accountant.
  Designed to enhance both professional growth and long-term success\, this
  course empowers agents to manage their businesses more effectively. By ma
 stering sound financial practices\, agents will not only strengthen their 
 careers but also better serve their clients and uphold the integrity of th
 e industry.</p>
DTSTART;TZID=America/Chicago:20251217T090000
DTEND;TZID=America/Chicago:20251217T120000
SUMMARY:Live ZOOM - Estate Planning and Taxes (3HR ELEC)
URL:https://edmondrealtors.com/calendar/279-classes/358-lancaster-institute
 -affiliate-zoom-courses/1909-live-zoom-estate-planning-and-taxes-3hr-elec.
 html
X-ALT-DESC;FMTTYPE=TEXT/HTML:<p>Live ZOOM - Estate Planning and Taxes (3HR 
 ELEC)</p>\n<p>Date/Time: Wednesday\, December 17th from 9:00a - 12:00p</p>
 \n<p>Location: ONLINE through our partners at The Lancaster Institute. All
  classes with The Lancaster Institute will be offered via online platforms
  at affordable prices. To register for the upcoming course follow this lin
 k:<span style='background-color: #ffff00\;'>&nbsp\;<a href='https://www.la
 ncasterinstitute.com/product/estateplan-dec17-ok/?aff=ebr'>https://www.lan
 casterinstitute.com/product/estateplan-dec17-ok/?aff=ebr</a></span></p>\n<
 p>Description:&nbsp\;This course provides real estate agents with a compre
 hensive understanding of taxes and tax deductions\, helping them identify 
 opportunities that are often overlooked. Participants will explore key ded
 uctions and gain valuable insights into the right questions to ask their C
 PA or accountant. Designed to enhance both professional growth and long-te
 rm success\, this course empowers agents to manage their businesses more e
 ffectively. By mastering sound financial practices\, agents will not only 
 strengthen their careers but also better serve their clients and uphold th
 e integrity of the industry.</p>
END:VEVENT
END:VCALENDAR
