BEGIN:VCALENDAR
VERSION:2.0
PRODID:-//https://edmondrealtors.com//NONSGML kigkonsult.se iCalcreator 2.41.71//
CALSCALE:GREGORIAN
METHOD:PUBLISH
UID:33353265-6331-4738-a462-623937396335
X-WR-CALNAME:JCal Pro Calendar
X-WR-CALDESC:Your online events calendar
X-WR-TIMEZONE:America/Chicago
BEGIN:VTIMEZONE
TZID:America/Chicago
TZUNTIL:20271107T070000Z
BEGIN:STANDARD
TZNAME:CST
DTSTART:20251102T020000
TZOFFSETFROM:-0500
TZOFFSETTO:-0600
RDATE:20261101T020000
END:STANDARD
BEGIN:DAYLIGHT
TZNAME:CDT
DTSTART:20260308T020000
TZOFFSETFROM:-0600
TZOFFSETTO:-0500
RDATE:20270314T020000
END:DAYLIGHT
END:VTIMEZONE
BEGIN:VEVENT
UID:20251016T090000UTC-3996UimLA6@https://edmondrealtors.com/
DTSTAMP:20260421T112538Z
CATEGORIES:Lancaster Institute Affiliate Zoom Courses
CATEGORIES:Elective Course
DESCRIPTION:<p>Live ZOOM - Money Matters: Tax and Finance Strategies for Co
 mmercial Real Estate Professionals (3HR CE ELEC)</p>\n<p>Date/Time: Thursd
 ay\, October 16th from 9:00a - 12:00p</p>\n<p>Location: ONLINE through our
  partners at The Lancaster Institute. All classes with The Lancaster Insti
 tute will be offered via online platforms at affordable prices. To registe
 r for the upcoming course follow this link:<span style='background-color: 
 #ffff00\;'>&nbsp\;<a href='https://www.lancasterinstitute.com/product/mone
 ymatters-oct16-ok/?aff=ebr'>https://www.lancasterinstitute.com/product/mon
 eymatters-oct16-ok/?aff=ebr</a></span></p>\n<p>Description:&nbsp\;In the h
 igh-stakes world of commercial real estate\, financial acumen can make or 
 break a deal. Money Moves equips practitioners with actionable tax strateg
 ies\, insights into cost segregation\, and an overview of financing tools 
 that can maximize returns and unlock investment potential. This course del
 ivers practical guidance on 1031 exchanges\, depreciation\, financing stru
 ctures\, and the latest updates on opportunity zones\, empowering commerci
 al agents to elevate their value to clients and sharpen their own investme
 nt strategies.</p>
DTSTART;TZID=America/Chicago:20251016T090000
DTEND;TZID=America/Chicago:20251016T120000
SUMMARY:Live ZOOM - Money Matters: Tax and Finance Strategies for Commercia
 l Real Estate Professionals (3HR CE ELEC)
URL:https://edmondrealtors.com/calendar/279-classes/358-lancaster-institute
 -affiliate-zoom-courses/1891-live-zoom-money-matters-tax-and-finance-strat
 egies-for-commercial-real-estate-professionals-3hr-ce-elec.html
X-ALT-DESC;FMTTYPE=TEXT/HTML:<p>Live ZOOM - Money Matters: Tax and Finance 
 Strategies for Commercial Real Estate Professionals (3HR CE ELEC)</p>\n<p>
 Date/Time: Thursday\, October 16th from 9:00a - 12:00p</p>\n<p>Location: O
 NLINE through our partners at The Lancaster Institute. All classes with Th
 e Lancaster Institute will be offered via online platforms at affordable p
 rices. To register for the upcoming course follow this link:<span style='b
 ackground-color: #ffff00\;'>&nbsp\;<a href='https://www.lancasterinstitute
 .com/product/moneymatters-oct16-ok/?aff=ebr'>https://www.lancasterinstitut
 e.com/product/moneymatters-oct16-ok/?aff=ebr</a></span></p>\n<p>Descriptio
 n:&nbsp\;In the high-stakes world of commercial real estate\, financial ac
 umen can make or break a deal. Money Moves equips practitioners with actio
 nable tax strategies\, insights into cost segregation\, and an overview of
  financing tools that can maximize returns and unlock investment potential
 . This course delivers practical guidance on 1031 exchanges\, depreciation
 \, financing structures\, and the latest updates on opportunity zones\, em
 powering commercial agents to elevate their value to clients and sharpen t
 heir own investment strategies.</p>
END:VEVENT
END:VCALENDAR
