BEGIN:VCALENDAR
VERSION:2.0
PRODID:-//https://edmondrealtors.com//NONSGML kigkonsult.se iCalcreator 2.41.71//
CALSCALE:GREGORIAN
METHOD:PUBLISH
UID:30653863-3831-4337-a464-626236653935
X-WR-CALNAME:JCal Pro Calendar
X-WR-CALDESC:Your online events calendar
X-WR-TIMEZONE:America/Chicago
BEGIN:VTIMEZONE
TZID:America/Chicago
TZUNTIL:20271107T070000Z
BEGIN:STANDARD
TZNAME:CST
DTSTART:20251102T020000
TZOFFSETFROM:-0500
TZOFFSETTO:-0600
RDATE:20261101T020000
END:STANDARD
BEGIN:DAYLIGHT
TZNAME:CDT
DTSTART:20260308T020000
TZOFFSETFROM:-0600
TZOFFSETTO:-0500
RDATE:20270314T020000
END:DAYLIGHT
END:VTIMEZONE
BEGIN:VEVENT
UID:20260826T130000UTC-5056hFSD8J@https://edmondrealtors.com/
DTSTAMP:20260421T163242Z
CATEGORIES:Elective Course
DESCRIPTION:<p>Mastering the Art of Difficult Conversations (3HR CE ELEC)<b
 r />Instructor: Angela Tinsley<br />Date/Time: Wednesday\, August 26th fro
 m 1:00p - 4:00p<br />Location: EBR office<br />Sponsor: TBD<br />*Please p
 ark in the lot behind EBR</p>\n<p>CE Cancellation Policy - If less than 10
  people are registered 48hrs before the class\, we will reschedule. (unles
 s the instructor wants to move forward). You will be notified by email if 
 the class is rescheduled.<br />NOTICE: Starting January 1\, 2023 the Board
  of Directors approved a no call/ no show fee to be added when members do 
 not cancel their registrations for class and do not attend. If we do not h
 ear from you 24 hours prior to class your account will be invoiced $25.</p
 >
DTSTART;TZID=America/Chicago:20260826T130000
DTEND;TZID=America/Chicago:20260826T160000
SUMMARY:Mastering the Art of Difficult Conversations (3HR CE ELEC)
URL:https://edmondrealtors.com/calendar/279-classes/341-uncategorised/2056-
 mastering-the-art-of-difficult-conversations-3hr-ce-hot.html
X-ALT-DESC;FMTTYPE=TEXT/HTML:<p>Mastering the Art of Difficult Conversation
 s (3HR CE ELEC)<br />Instructor: Angela Tinsley<br />Date/Time: Wednesday\
 , August 26th from 1:00p - 4:00p<br />Location: EBR office<br />Sponsor: T
 BD<br />*Please park in the lot behind EBR</p>\n<p>CE Cancellation Policy 
 - If less than 10 people are registered 48hrs before the class\, we will r
 eschedule. (unless the instructor wants to move forward). You will be noti
 fied by email if the class is rescheduled.<br />NOTICE: Starting January 1
 \, 2023 the Board of Directors approved a no call/ no show fee to be added
  when members do not cancel their registrations for class and do not atten
 d. If we do not hear from you 24 hours prior to class your account will be
  invoiced $25.</p>
END:VEVENT
END:VCALENDAR
