BEGIN:VCALENDAR
VERSION:2.0
PRODID:-//https://edmondrealtors.com//NONSGML kigkonsult.se iCalcreator 2.41.71//
CALSCALE:GREGORIAN
METHOD:PUBLISH
UID:63306536-3039-4339-a631-313034613332
X-WR-CALNAME:JCal Pro Calendar
X-WR-CALDESC:Your online events calendar
X-WR-TIMEZONE:America/Chicago
BEGIN:VTIMEZONE
TZID:America/Chicago
TZUNTIL:20271107T070000Z
BEGIN:STANDARD
TZNAME:CST
DTSTART:20251102T020000
TZOFFSETFROM:-0500
TZOFFSETTO:-0600
RDATE:20261101T020000
END:STANDARD
BEGIN:DAYLIGHT
TZNAME:CDT
DTSTART:20260308T020000
TZOFFSETFROM:-0600
TZOFFSETTO:-0500
RDATE:20270314T020000
END:DAYLIGHT
END:VTIMEZONE
BEGIN:VEVENT
UID:20260203T131500UTC-90496g2gRR@https://edmondrealtors.com/
DTSTAMP:20260422T040548Z
CATEGORIES:Elective Course
DESCRIPTION:<p>Perfecting Your Online Presence: Crafting a Trustworthy and 
 Impactful Digital Presence (1 HR CE ELEC)<br />Instructor: Shanahan Ramos<
 br />Date/Time: Wednesday\, February 4th from 1:15p - 2:45p<br />Location:
  EBR Office<br />Sponsor: Stewart Title<br />Workshop 1 of 3<br />Course D
 escription:<br />In this foundational workshop\, agents will evaluate thei
 r current online presence and learn how to create consistent\, trustworthy
  digital first impressions. We'll explore how buyers and sellers vet agent
 s online\, how inconsistent branding creates confusion\, and what steps ag
 ents can take to close the trust gap. Perfect for agents ready to take con
 trol of how they're perceived online.<br />Learning Objectives:<br />Iden
 tify how consumers search for and evaluate agents online<br />Understand 
 the “trust gap” and how to overcome it<br />Audit and improve your own di
 gital presence across platforms<br />Craft a clear\, consistent personal 
 brand message</p>\n<p>CE Cancellation Policy - If less than 10 people are 
 registered 48hrs before the class\, we will reschedule. (unless the instru
 ctor wants to move forward). You will be notified by email if the class is
  rescheduled.<br />NOTICE: Starting January 1\, 2023 the Board of Director
 s approved a no call/ no show fee to be added when members do not cancel t
 heir registrations for class and do not attend. If we do not hear from you
  24 hours prior to class your account will be invoiced $25.</p>
DTSTART;TZID=America/Chicago:20260204T131500
DTEND;TZID=America/Chicago:20260204T144500
SUMMARY:Perfecting Your Online Presence: Crafting a Trustworthy and Impactf
 ul Digital Presence (1 HR CE ELEC)
URL:https://edmondrealtors.com/calendar/279-classes/341-uncategorised/1979-
 perfecting-your-online-presence-crafting-a-trustworthy-and-impactful-digit
 al-presence-1-hr-ce-elec.html
X-ALT-DESC;FMTTYPE=TEXT/HTML:<p>Perfecting Your Online Presence: Crafting a
  Trustworthy and Impactful Digital Presence (1 HR CE ELEC)<br />Instructor
 : Shanahan Ramos<br />Date/Time: Wednesday\, February 4th from 1:15p - 2:4
 5p<br />Location: EBR Office<br />Sponsor: Stewart Title<br />Workshop 1 o
 f 3<br />Course Description:<br />In this foundational workshop\, agents w
 ill evaluate their current online presence and learn how to create consist
 ent\, trustworthy digital first impressions. We'll explore how buyers and 
 sellers vet agents online\, how inconsistent branding creates confusion\, 
 and what steps agents can take to close the trust gap. Perfect for agents 
 ready to take control of how they're perceived online.<br />Learning Objec
 tives:<br />Identify how consumers search for and evaluate agents online<
 br />Understand the “trust gap” and how to overcome it<br />Audit and im
 prove your own digital presence across platforms<br />Craft a clear\, con
 sistent personal brand message</p>\n<p>CE Cancellation Policy - If less th
 an 10 people are registered 48hrs before the class\, we will reschedule. (
 unless the instructor wants to move forward). You will be notified by emai
 l if the class is rescheduled.<br />NOTICE: Starting January 1\, 2023 the 
 Board of Directors approved a no call/ no show fee to be added when member
 s do not cancel their registrations for class and do not attend. If we do 
 not hear from you 24 hours prior to class your account will be invoiced $2
 5.</p>
END:VEVENT
END:VCALENDAR
