BEGIN:VCALENDAR
VERSION:2.0
PRODID:-//https://edmondrealtors.com//NONSGML kigkonsult.se iCalcreator 2.41.71//
CALSCALE:GREGORIAN
METHOD:PUBLISH
UID:36313466-6131-4138-b432-346361363966
X-WR-CALNAME:JCal Pro Calendar
X-WR-CALDESC:Your online events calendar
X-WR-TIMEZONE:America/Chicago
BEGIN:VTIMEZONE
TZID:America/Chicago
TZUNTIL:20271107T070000Z
BEGIN:STANDARD
TZNAME:CST
DTSTART:20251102T020000
TZOFFSETFROM:-0500
TZOFFSETTO:-0600
RDATE:20261101T020000
END:STANDARD
BEGIN:DAYLIGHT
TZNAME:CDT
DTSTART:20260308T020000
TZOFFSETFROM:-0600
TZOFFSETTO:-0500
RDATE:20270314T020000
END:DAYLIGHT
END:VTIMEZONE
BEGIN:VEVENT
UID:20260128T113000UTC-7853kb6xL1@https://edmondrealtors.com/
DTSTAMP:20260421T114557Z
CATEGORIES:Elective Course
DESCRIPTION:<p>Property Management and Trust Accounting (2HR CE ELEC)<br />
 Instructor: Geoff Long<br />Date/Time: Wednesday\, January 28th from 11:30
 a – 1:30p<br />Location: EBR Office (1065 N Bryant)<br />Sponsor: First Am
 erican Home Warranty<br />Free for EBR Members\, Nonmembers contact EBR fo
 r pricing and registration<br />*Please park in the lot behind EBR (to the
  south)<br />CE Cancellation Policy - If less than 10 people are registere
 d 48hrs before the class\, we will reschedule. (unless the instructor want
 s to move forward). You will be notified by email if the class is reschedu
 led.<br />NOTICE: Starting January 1\, 2023 the Board of Directors approve
 d a no call/ no show fee to be added when members do not cancel their regi
 strations for class and do not attend. If we do not hear from you 24 hours
  prior to class your account will be invoiced $25.</p>
DTSTART;TZID=America/Chicago:20260128T113000
DTEND;TZID=America/Chicago:20260128T133000
SUMMARY:Property Management and Trust Accounting (2HR CE ELEC)
URL:https://edmondrealtors.com/calendar/279-classes/341-uncategorised/1977-
 property-management-and-trust-accounting-2hr-ce-elec.html
X-ALT-DESC;FMTTYPE=TEXT/HTML:<p>Property Management and Trust Accounting (2
 HR CE ELEC)<br />Instructor: Geoff Long<br />Date/Time: Wednesday\, Januar
 y 28th from 11:30a – 1:30p<br />Location: EBR Office (1065 N Bryant)<br />
 Sponsor: First American Home Warranty<br />Free for EBR Members\, Nonmembe
 rs contact EBR for pricing and registration<br />*Please park in the lot b
 ehind EBR (to the south)<br />CE Cancellation Policy - If less than 10 peo
 ple are registered 48hrs before the class\, we will reschedule. (unless th
 e instructor wants to move forward). You will be notified by email if the 
 class is rescheduled.<br />NOTICE: Starting January 1\, 2023 the Board of 
 Directors approved a no call/ no show fee to be added when members do not 
 cancel their registrations for class and do not attend. If we do not hear 
 from you 24 hours prior to class your account will be invoiced $25.</p>
END:VEVENT
END:VCALENDAR
