BEGIN:VCALENDAR
VERSION:2.0
PRODID:-//https://edmondrealtors.com//NONSGML kigkonsult.se iCalcreator 2.41.71//
CALSCALE:GREGORIAN
METHOD:PUBLISH
UID:31333263-3863-4235-b233-373732313831
X-WR-CALNAME:JCal Pro Calendar
X-WR-CALDESC:Your online events calendar
X-WR-TIMEZONE:America/Chicago
BEGIN:VTIMEZONE
TZID:America/Chicago
TZUNTIL:20271107T070000Z
BEGIN:STANDARD
TZNAME:CST
DTSTART:20251102T020000
TZOFFSETFROM:-0500
TZOFFSETTO:-0600
RDATE:20261101T020000
END:STANDARD
BEGIN:DAYLIGHT
TZNAME:CDT
DTSTART:20260308T020000
TZOFFSETFROM:-0600
TZOFFSETTO:-0500
RDATE:20270314T020000
END:DAYLIGHT
END:VTIMEZONE
BEGIN:VEVENT
UID:20260204T100000UTC-5363NJWPsJ@https://edmondrealtors.com/
DTSTAMP:20260421T173714Z
CATEGORIES:Elective Course
DESCRIPTION:<p>Rental Properties for the Real Estate Investor (2HR CE ELEC)
 <br />Instructor: Maris Moore<br />Date/Time: Wednesday\, February 4 from 
 10:00a - 12:00p<br />Sponsor: TBD<br />*Please park behind EBR (parking lo
 t to the south)</p>\n<p>In This Two (2) Hours of CE Elective for Realtors\
 , You Will Learn About:</p>\n<p>1)Purchasing the Rental Properties – Is th
 e timing right\; vacancy rates\; transferring the properties\; financing\;
  cash flow\; tax advantages\; depreciation\; and loss.<br />2)How to Take 
 Title Pt. 1 – Why it’s so important\; how to do it properly\; policies\; c
 omplications\; revocable trusts\; irrevocable trusts\; and how to correct 
 titles.<br />3)How to Take Title Pt. 2 – Partnerships and rules\; Corporat
 ions\; LLC\; Tax reporting.<br />4)A Review of Different Types of Deeds<br
  />5)Sale of Rental Property – What you need to know!</p>\n<p>CE Cancellat
 ion Policy - If less than 10 people are registered 48hrs before the class\
 , we will reschedule. (unless the instructor wants to move forward). You w
 ill be notified by email if the class is rescheduled.<br />NOTICE: Startin
 g January 1\, 2023 the Board of Directors approved a no call/ no show fee 
 to be added when members do not cancel their registrations for class and d
 o not attend. If we do not hear from you 24 hours prior to class your acco
 unt will be invoiced $25.</p>
DTSTART;TZID=America/Chicago:20260204T100000
DTEND;TZID=America/Chicago:20260204T120000
SUMMARY:Rental Properties for the Real Estate Investor (2HR CE ELEC)
URL:https://edmondrealtors.com/calendar/279-classes/341-uncategorised/1947-
 rental-properties-for-the-real-estate-investor-2hr-ce-elec.html
X-ALT-DESC;FMTTYPE=TEXT/HTML:<p>Rental Properties for the Real Estate Inves
 tor (2HR CE ELEC)<br />Instructor: Maris Moore<br />Date/Time: Wednesday\,
  February 4 from 10:00a - 12:00p<br />Sponsor: TBD<br />*Please park behin
 d EBR (parking lot to the south)</p>\n<p>In This Two (2) Hours of CE Elect
 ive for Realtors\, You Will Learn About:</p>\n<p>1)Purchasing the Rental P
 roperties – Is the timing right\; vacancy rates\; transferring the propert
 ies\; financing\; cash flow\; tax advantages\; depreciation\; and loss.<br
  />2)How to Take Title Pt. 1 – Why it’s so important\; how to do it proper
 ly\; policies\; complications\; revocable trusts\; irrevocable trusts\; an
 d how to correct titles.<br />3)How to Take Title Pt. 2 – Partnerships and
  rules\; Corporations\; LLC\; Tax reporting.<br />4)A Review of Different 
 Types of Deeds<br />5)Sale of Rental Property – What you need to know!</p>
 \n<p>CE Cancellation Policy - If less than 10 people are registered 48hrs 
 before the class\, we will reschedule. (unless the instructor wants to mov
 e forward). You will be notified by email if the class is rescheduled.<br 
 />NOTICE: Starting January 1\, 2023 the Board of Directors approved a no c
 all/ no show fee to be added when members do not cancel their registration
 s for class and do not attend. If we do not hear from you 24 hours prior t
 o class your account will be invoiced $25.</p>
END:VEVENT
END:VCALENDAR
