BEGIN:VCALENDAR
VERSION:2.0
PRODID:-//https://edmondrealtors.com//NONSGML kigkonsult.se iCalcreator 2.41.71//
CALSCALE:GREGORIAN
METHOD:PUBLISH
UID:32656631-3930-4130-b033-626462383131
X-WR-CALNAME:JCal Pro Calendar
X-WR-CALDESC:Your online events calendar
X-WR-TIMEZONE:America/Chicago
BEGIN:VTIMEZONE
TZID:America/Chicago
TZUNTIL:20271107T070000Z
BEGIN:STANDARD
TZNAME:CST
DTSTART:20251102T020000
TZOFFSETFROM:-0500
TZOFFSETTO:-0600
RDATE:20261101T020000
END:STANDARD
BEGIN:DAYLIGHT
TZNAME:CDT
DTSTART:20260308T020000
TZOFFSETFROM:-0600
TZOFFSETTO:-0500
RDATE:20270314T020000
END:DAYLIGHT
END:VTIMEZONE
BEGIN:VEVENT
UID:20260513T100000UTC-42743a1Rr2@https://edmondrealtors.com/
DTSTAMP:20260422T173711Z
CATEGORIES:Elective Course
DESCRIPTION:<p>What Do You Know About Divorce &amp\; Ways to Take Title (1H
 R ELEC)<br />Date/Time: Wednesday\, May 13 from 10:00a - 11:00a<br />Spons
 or: First American Title<br />*Please park behind EBR (parking lot to the 
 south)</p>\n<p>CE Cancellation Policy - If less than 10 people are registe
 red 48hrs before the class\, we will reschedule. (unless the instructor wa
 nts to move forward). You will be notified by email if the class is resche
 duled.<br />NOTICE: Starting January 1\, 2023 the Board of Directors appro
 ved a no call/ no show fee to be added when members do not cancel their re
 gistrations for class and do not attend. If we do not hear from you 24 hou
 rs prior to class your account will be invoiced $25.</p>
DTSTART;TZID=America/Chicago:20260513T100000
DTEND;TZID=America/Chicago:20260513T110000
SUMMARY:What Do You Know About Divorce & Ways to Take Title (1HR ELEC)
URL:https://edmondrealtors.com/calendar/279-classes/341-uncategorised/1932-
 what-do-you-know-about-divorce-ways-to-take-title-1hr-elec.html
X-ALT-DESC;FMTTYPE=TEXT/HTML:<p>What Do You Know About Divorce &amp\; Ways 
 to Take Title (1HR ELEC)<br />Date/Time: Wednesday\, May 13 from 10:00a - 
 11:00a<br />Sponsor: First American Title<br />*Please park behind EBR (pa
 rking lot to the south)</p>\n<p>CE Cancellation Policy - If less than 10 p
 eople are registered 48hrs before the class\, we will reschedule. (unless 
 the instructor wants to move forward). You will be notified by email if th
 e class is rescheduled.<br />NOTICE: Starting January 1\, 2023 the Board o
 f Directors approved a no call/ no show fee to be added when members do no
 t cancel their registrations for class and do not attend. If we do not hea
 r from you 24 hours prior to class your account will be invoiced $25.</p>
END:VEVENT
END:VCALENDAR
