BEGIN:VCALENDAR
VERSION:2.0
PRODID:-//https://edmondrealtors.com//NONSGML kigkonsult.se iCalcreator 2.41.71//
CALSCALE:GREGORIAN
METHOD:PUBLISH
UID:34353136-3832-4366-b765-643635333864
X-WR-CALNAME:JCal Pro Calendar
X-WR-CALDESC:Your online events calendar
X-WR-TIMEZONE:America/Chicago
BEGIN:VTIMEZONE
TZID:America/Chicago
TZUNTIL:20271107T070000Z
BEGIN:STANDARD
TZNAME:CST
DTSTART:20251102T020000
TZOFFSETFROM:-0500
TZOFFSETTO:-0600
RDATE:20261101T020000
END:STANDARD
BEGIN:DAYLIGHT
TZNAME:CDT
DTSTART:20260308T020000
TZOFFSETFROM:-0600
TZOFFSETTO:-0500
RDATE:20270314T020000
END:DAYLIGHT
END:VTIMEZONE
BEGIN:VEVENT
UID:20260826T090000UTC-8856VShZ4o@https://edmondrealtors.com/
DTSTAMP:20260421T083910Z
CATEGORIES:Professional Conduct/Ethics Course
DESCRIPTION:<p>Code of Ethics (3HR CE PSC/NAR)<br />Instructor: Angela Tins
 ley<br />Date/Time: Wednesday\, August 26th from 9:00a - 12:00p<br />Locat
 ion: EBR office<br />Sponsor: TBD<br />*Please park in the lot behind EBR<
 /p>\n<p>CE Cancellation Policy - If less than 10 people are registered 48h
 rs before the class\, we will reschedule. (unless the instructor wants to 
 move forward). You will be notified by email if the class is rescheduled.<
 br />NOTICE: Starting January 1\, 2023 the Board of Directors approved a n
 o call/ no show fee to be added when members do not cancel their registrat
 ions for class and do not attend. If we do not hear from you 24 hours prio
 r to class your account will be invoiced $25.</p>
DTSTART;TZID=America/Chicago:20260826T090000
DTEND;TZID=America/Chicago:20260826T120000
SUMMARY:Code of Ethics (3HR CE PSC/NAR)
URL:https://edmondrealtors.com/calendar/279-classes/195-staff-calendar-cate
 gory/2057-code-of-ethics-3hr-ce-psc-nar.html
X-ALT-DESC;FMTTYPE=TEXT/HTML:<p>Code of Ethics (3HR CE PSC/NAR)<br />Instru
 ctor: Angela Tinsley<br />Date/Time: Wednesday\, August 26th from 9:00a - 
 12:00p<br />Location: EBR office<br />Sponsor: TBD<br />*Please park in th
 e lot behind EBR</p>\n<p>CE Cancellation Policy - If less than 10 people a
 re registered 48hrs before the class\, we will reschedule. (unless the ins
 tructor wants to move forward). You will be notified by email if the class
  is rescheduled.<br />NOTICE: Starting January 1\, 2023 the Board of Direc
 tors approved a no call/ no show fee to be added when members do not cance
 l their registrations for class and do not attend. If we do not hear from 
 you 24 hours prior to class your account will be invoiced $25.</p>
END:VEVENT
END:VCALENDAR
